BEGIN:VCALENDAR
VERSION:2.0
PRODID:-//Geraldton Cemetery &amp; Crematorium - ECPv5.3.0//NONSGML v1.0//EN
CALSCALE:GREGORIAN
METHOD:PUBLISH
X-WR-CALNAME:Geraldton Cemetery &amp; Crematorium
X-ORIGINAL-URL:https://geraldtoncemetery.com.au
X-WR-CALDESC:Events for Geraldton Cemetery &amp; Crematorium
BEGIN:VTIMEZONE
TZID:UTC
BEGIN:STANDARD
TZOFFSETFROM:+0000
TZOFFSETTO:+0000
TZNAME:UTC
DTSTART:20200101T000000
END:STANDARD
END:VTIMEZONE
BEGIN:VEVENT
DTSTART;TZID=UTC:20201123T120000
DTEND;TZID=UTC:20201123T140000
DTSTAMP:20210225T220017
CREATED:20201117T061500Z
LAST-MODIFIED:20201117T061500Z
UID:2701-1606132800-1606140000@geraldtoncemetery.com.au
SUMMARY:Lewis William Patten
DESCRIPTION:
URL:https://geraldtoncemetery.com.au/event/lewis-william-patten/
CATEGORIES:This is a Standard Service
END:VEVENT
END:VCALENDAR