BEGIN:VCALENDAR
VERSION:2.0
PRODID:-//Geraldton Cemetery &amp; Crematorium - ECPv5.3.0//NONSGML v1.0//EN
CALSCALE:GREGORIAN
METHOD:PUBLISH
X-WR-CALNAME:Geraldton Cemetery &amp; Crematorium
X-ORIGINAL-URL:https://geraldtoncemetery.com.au
X-WR-CALDESC:Events for Geraldton Cemetery &amp; Crematorium
BEGIN:VTIMEZONE
TZID:UTC
BEGIN:STANDARD
TZOFFSETFROM:+0000
TZOFFSETTO:+0000
TZNAME:UTC
DTSTART:20200101T000000
END:STANDARD
END:VTIMEZONE
BEGIN:VEVENT
DTSTART;TZID=UTC:20201126T120000
DTEND;TZID=UTC:20201126T140000
DTSTAMP:20210225T215920
CREATED:20201117T052919Z
LAST-MODIFIED:20201117T052919Z
UID:2697-1606392000-1606399200@geraldtoncemetery.com.au
SUMMARY:Eugenio Condo
DESCRIPTION:
URL:https://geraldtoncemetery.com.au/event/eugenio-condo/
CATEGORIES:This is a Standard Service
END:VEVENT
END:VCALENDAR